BEGIN:VCALENDAR
VERSION:2.0
PRODID:-//GRAPES - ECPv5.10.0//NONSGML v1.0//EN
CALSCALE:GREGORIAN
METHOD:PUBLISH
X-WR-CALNAME:GRAPES
X-ORIGINAL-URL:http://grapes-network.eu
X-WR-CALDESC:Events for GRAPES
BEGIN:VTIMEZONE
TZID:UTC
BEGIN:STANDARD
TZOFFSETFROM:+0000
TZOFFSETTO:+0000
TZNAME:UTC
DTSTART:20240101T000000
END:STANDARD
END:VTIMEZONE
BEGIN:VEVENT
DTSTART;VALUE=DATE:20240403
DTEND;VALUE=DATE:20240406
DTSTAMP:20260421T081830
CREATED:20240122T181609Z
LAST-MODIFIED:20240406T205305Z
UID:2220-1712102400-1712361599@grapes-network.eu
SUMMARY:Final open conference and career fair
DESCRIPTION:RISC						Research Institute for Symbolic Computation					\n				\n\n						\n				\n											\n										\n												JKU Science Park 2					\n				\n\n						\n				\n											\n										\n												Linz. By J. Franganillo\, CC BY 2.0\, https://commons.wikimedia.org/w/index.php?curid=92831924					\n				\n\n						\n				\n											\n										\n												Blick vom Standort Kollegium Aloisianum\, Freinbergstraße 32 auf Linz. By Radler59 (talk) - Self-photographed\, CC BY-SA 4.0\, https://commons.wikimedia.org/w/index.php?curid=92882356					\n				\n\n						\n		\n\n		\n\n		\n		\n\n		\n\n		\n\n			\n\n\nGRAPES’ Final event will take place in Linz during the first week of April 2024 from Wednesday\, April 3 to Friday\, April 5. It is organised by JKU & RISC and it will be co-located with the Special Semester on Rigidity and Flexibility which will take place at RICAM from February 26-May 17\, 2024. RICAM provides some accomodation and travel support for researchers attending the workshop “Rigidity in Action”\, April 8-12 – if you are staying for one of the workshops\, please register at https://www.ricam.oeaw.ac.at/specsem/specsem2024/registration/. \nDuring the GRAPES Final conference ESRs shall present their work and interact with other GRAPES and external industrial groups to discuss career opportunities. There will also be presentations by project partners: Denys Plakhotnik – ModuleWorks\, Christoph Hofer  – RISC-Software\, ITI\, members: Vasileia Filidou – Athena RC\, and invited guest: J. Brandstetter – Institue for Machine Learning\, NXAI\, as part of the Career Fair. Lastly\, the event will host a couple of invited talks related to the special semester. \n\n	\n\n					\n		\n		\n\n			\n				\n											\n										\n						IMG_20240404_092751											\n				\n\n						\n				\n											\n										\n						IMG_20240403_161005-b											\n				\n\n						\n				\n											\n										\n						IMG_20240404_220411											\n				\n\n						\n				\n											\n										\n						PXL_20240403_153419992											\n				\n\n						\n				\n											\n										\n						PXL_20240404_073157153											\n				\n\n						\n				\n											\n										\n						PXL_20240403_180321362											\n				\n\n						\n				\n											\n										\n						IMG_20240403_161905											\n				\n\n						\n				\n											\n										\n						IMG_20240403_185338											\n				\n\n						\n				\n											\n										\n						IMG_20240403_161513											\n				\n\n						\n				\n											\n										\n						IMG_20240403_185350											\n				\n\n						\n				\n											\n										\n						IMG_20240403_185404											\n				\n\n						\n				\n											\n										\n						IMG_20240403_192117											\n				\n\n						\n				\n											\n										\n						IMG_20240405_121601											\n				\n\n						\n				\n											\n										\n						IMG_20240403_191947											\n				\n\n						\n				\n											\n										\n						IMG_20240403_192155											\n				\n\n						\n				\n											\n										\n						IMG_20240403_192136											\n				\n\n						\n				\n											\n										\n						IMG_20240403_192156											\n				\n\n						\n				\n											\n										\n						IMG_20240403_192157											\n				\n\n						\n				\n											\n										\n						IMG_20240403_192129											\n				\n\n						\n				\n											\n										\n						IMG_20240403_192227											\n				\n\n						\n				\n											\n										\n						IMG_20240403_192209											\n				\n\n						\n				\n											\n										\n						IMG_20240404_202733											\n				\n\n						\n				\n											\n										\n						IMG_20240403_192253											\n				\n\n						\n				\n											\n										\n						PXL_20240403_164911343											\n				\n\n						\n				\n											\n										\n						PXL_20240404_101723936											\n				\n\n						\n				\n											\n										\n						PXL_20240403_172022284											\n				\n\n						\n				\n											\n										\n						IMG_20240404_114322											\n				\n\n						\n				\n											\n										\n						IMG_20240403_192237											\n				\n\n						\n				\n											\n										\n						IMG_20240404_114323											\n				\n\n						\n				\n											\n										\n						IMG_20240404_114335											\n				\n\n						\n				\n											\n										\n						IMG_20240404_114336											\n				\n\n						\n				\n											\n										\n						IMG_20240404_093323											\n				\n\n						\n				\n											\n										\n						IMG_20240404_095648											\n				\n\n						\n				\n											\n										\n						IMG_20240404_093320											\n				\n\n						\n				\n											\n										\n						IMG_20240404_101224											\n				\n\n						\n				\n											\n										\n						IMG_20240404_095654											\n				\n\n						\n				\n											\n										\n						IMG_20240404_102222											\n				\n\n						\n				\n											\n										\n						IMG_20240404_102225											\n				\n\n						\n				\n											\n										\n						IMG_20240404_110124											\n				\n\n						\n				\n											\n										\n						IMG_20240404_140128											\n				\n\n						\n				\n											\n										\n						IMG_20240404_140135											\n				\n\n						\n				\n											\n										\n						IMG_20240404_144801											\n				\n\n						\n				\n											\n										\n						IMG_20240404_144803											\n				\n\n						\n				\n											\n										\n						IMG_20240404_151122											\n				\n\n						\n				\n											\n										\n						IMG_20240404_151129											\n				\n\n						\n				\n											\n										\n						IMG_20240404_153519											\n				\n\n						\n				\n											\n										\n						IMG_20240404_163801											\n				\n\n						\n				\n											\n										\n						IMG_20240404_163807											\n				\n\n						\n				\n											\n										\n						IMG_20240405_095230											\n				\n\n						\n				\n											\n										\n						IMG_20240405_095232											\n				\n\n						\n				\n											\n										\n						IMG_20240405_111640											\n				\n\n						\n				\n											\n										\n						IMG_20240405_113218											\n				\n\n						\n				\n											\n										\n						IMG_20240405_114357											\n				\n\n						\n				\n											\n										\n						IMG_20240405_111642											\n				\n\n						\n				\n											\n										\n						IMG_20240403_160959-b											\n				\n\n						\n				\n											\n										\n						IMG_20240404_110120											\n				\n\n						\n				\n											\n										\n						1000004877											\n				\n\n						\n				\n											\n										\n						1000004871											\n				\n\n						\n				\n											\n										\n						IMG_20240404_220417											\n				\n\n						\n		\n\n		\n\n		\n		\n\n		\n\n		\n\n			\n\n\nRegistration\nRegistration is now closed.\n \nLocation\nThe meeting will take place at the Johann Radon Institute (RICAM)\, Science Park 2\, 4th floor (map) \nOn Thursday lunch will be served at the Mensa (5 minutes from the venue\, at campus). Coupons will be distributed during the breaks in the morning session.  \nThe workshop’s dinner on Thursday 4/4 will take place at the restaurant  https://www.schlossbrasserie.at/\, 5 minutes from the tram station Hauptplatz (steep upwards). Dinner starts at 8pm.\n \nSchedule \nLat update: 2-4-2024\n\n\n\n\n	Wednesday\, April 3rd\n\n\n	14:15-15:00ESR presentations: Carles Checa  -- SLIDES\,  Thanasis Zounpekas\n\n\n	15:00-15:30Coffee break\n\n\n	15:30-16:15Christopher Brampton (ITI) \n\n\n	16:15-17:00Johannes Brandstetter (Institue for Machine Learning\, NXAI)\n\n\n	17:15Supervisory Board meeting -\n\n\n	18:30Welcome reception\n\n\n	\n\n\n	\n\n\n	Thursday\, April 4th\n\n\n	9:30-10:30ESR presentations: Rao Fu \, Shahroz Khan\, E. Hoxhaj\n\n\n	10:30-11:00Coffee break\n\n\n	11:00-12:00Vasileia Filidou - Τips for successful proposal applications \n\n\n	12:00-14:00Lunch break\n\n\n	14:00-14:45Audie Warren - Components of Configurations\n\n\n	14:45-16:00ESR presentations: Jean Michel Menjanahary -- SLIDES\, Mahenina Ramanantoanina\, Michelangelo Marsala  \n\n\n	16:00-16:30Coffee break\n\n\n	16:30-17:15Denys Plakhotnik (ModuleWorks) \n\n\n	20:00Dinner\n\n\n	\n\n\n	Friday\, April 5th\n\n\n	9:30-10:15Johannes Siegele  - Motion Polynomials -- SLIDES \n\n\n	10:15-10:35Coffee break\n\n\n	10:35-11:15ESR presentations:  Arturs Berzins\, Pablo Gonzalez-Mazon -- SLIDES \n\n\n	11:15-12:00Christoph Hofer (RISC-Software)\n\n\n	\n\n\n\n \nTravel directions\nBy car\nThe campus is right next to the “Dornach” exit of the A7 – Mühlkreisautobahn\, with Passau\, Salzburg and Vienna all being roughly a 1:30 hour’s drive away. \nBy train\nLinz is a railway hub with Intercity lines connecting it to Vienna\, Salzburg/Munich\, Passau/Nürnberg and Prague. \n 	— ÖBB (Austrian Federal Railways)\n 	— Westbahn: Train from Vienna West Station (Westbahnhof) to Linz and from Salzburg to Linz \nFrom the railway station\, you can use: \n 	• a taxi (approx. 15 minutes\, about 20 Euros)\n 	• public transport (download the tram map):\n 	   — purchase with cash a MIDI (1 hour) or MAXI (1 day) ticket from a ticket machine or from a tobacco store (“Trafik”)\n 	   — take tram number 1 or 2 (direction “Universität”);\n 	   — alight at the final stop “Universität” (approx. 30 minutes)\n 	   — from there\, walk along the Altenberger Straße to find the Science Park on the right hand side. \nBy plane \n• Vienna International Airport (airport code VIE): \n            — Connection Vienna airport to Linz train station: ÖBB (Austrian Federal Railways) offers direct IC/Railjet connections (every 30 minutes) between Vienna airport and Linz train station via Vienna Central Station (Wien Hauptbahnhof). \n            —  Connection Vienna airport to Vienna West Station (Westbahnhof): There is a shuttle bus (Vienna AirportLines) every 30 minutes directly to the Vienna West Station (Westbahnhof).\n \n• Blue Danube Airport Linz (airport code LNZ):   Public transport\, Airport shuttle\, Taxi\, rental car.\n \nAccommodation suggestions\nhttp://www.sommerhaus-hotel.at/de/linz close to campus\nhttps://harrys-home.com/linz-urfahr/ close to campus\nhttps://www.hotelwolfinger.at/ downtown
URL:http://grapes-network.eu/event/final-open-conference-and-career-fair/
LOCATION:Johann Radon Institute for Computational and Applied Mathematics (RICAM)\, Altenberger Str. 69\, Linz\, 4040\, Austria
ORGANIZER;CN="Josef%20Schicho":MAILTO:josef.schicho@ricam.oeaw.ac.at
END:VEVENT
END:VCALENDAR